BEGIN:VCALENDAR
PRODID:-//kirchenweb.ch gmbh//veranstaltungsausgabe v2.0//DE
VERSION:2.0
METHOD:PUBLISH
BEGIN:VEVENT
DTSTART:20270702T183000Z
DTEND:20270702T213000Z
LOCATION:Kirchgemeindehaus Blatten\, Bahnweg 6\, 8634 Hombrechtikon
TRANSP:OPAQUE
SEQUENCE:0
UID:62166-veranstaltung@ref-staefa-hombrechtikon.ch
DTSTAMP:20260422T100658Z
DESCRIPTION:Kontakt: Chiara Salvi\n\nWeitere Infos:
  https://www.ref-staefa-hombrechtikon.ch/veranstaltung/62166
SUMMARY:Jugendparty (Konf-Abschlussparty)
PRIORITY:5
X-MICROSOFT-CDO-IMPORTANCE:1
CLASS:PUBLIC
END:VEVENT
END:VCALENDAR
