BEGIN:VCALENDAR
PRODID:-//kirchenweb.ch gmbh//veranstaltungsausgabe v2.0//DE
VERSION:2.0
METHOD:PUBLISH
BEGIN:VEVENT
DTSTART:20261030T170000Z
DTEND:20261030T193000Z
LOCATION:Kirchgemeindehaus Blatten\, Bahnweg 6\, 8634 Hombrechtikon
TRANSP:OPAQUE
SEQUENCE:0
UID:62159-veranstaltung@ref-staefa-hombrechtikon.ch
DTSTAMP:20260422T095233Z
DESCRIPTION:SpiritFritig– Input\, Action & Fun!\nLust auf einen coolen
  Start ins Wochenende? Dann komm vorbei!\nDich erwartet ein kurzer\,
  spannender Input – danach geht’s weiter mit verschiedenen
  Aktivitäten\, Spielen\, jeder Menge Spass und einem feinen z’Nacht.
 \nEin Abend zum Abschalten\, Lachen und Gemeinschaft erleben.\nKomm vorbei
  und sei dabei – wir freuen uns auf dich!\n\nWir verschicken ein paar
  Tage vorher eine Einladung mit der Anmeldung.\nDer SpiritFritig kann aber
  auch spontan besucht werden.\n\n\nKontakt: Chiara Salvi\n\nWeitere Infos:
  https://www.ref-staefa-hombrechtikon.ch/veranstaltung/62159
SUMMARY:SpiritFritig Hombi
PRIORITY:5
X-MICROSOFT-CDO-IMPORTANCE:1
CLASS:PUBLIC
END:VEVENT
END:VCALENDAR
