BEGIN:VCALENDAR
PRODID:-//kirchenweb.ch gmbh//veranstaltungsausgabe v2.0//DE
VERSION:2.0
METHOD:PUBLISH
BEGIN:VEVENT
DTSTART:20260519T063000Z
DTEND:20260519T083000Z
LOCATION:Forum Kirchbühl Stäfa\, Kirchbühlstrasse 40\, 8712 Stäfa
TRANSP:OPAQUE
SEQUENCE:0
UID:62112-veranstaltung@ref-staefa-hombrechtikon.ch
DTSTAMP:20260412T175524Z
DESCRIPTION:Kontakt: Monika Capaul\n\nWeitere Infos:
  https://www.ref-staefa-hombrechtikon.ch/veranstaltung/62112
SUMMARY:Sitzung Orgelteam
PRIORITY:5
X-MICROSOFT-CDO-IMPORTANCE:1
CLASS:PUBLIC
END:VEVENT
END:VCALENDAR
