BEGIN:VCALENDAR
PRODID:-//kirchenweb.ch gmbh//veranstaltungsausgabe v2.0//DE
VERSION:2.0
METHOD:PUBLISH
BEGIN:VEVENT
DTSTART:20270113T080000Z
DTEND:20270113T090000Z
LOCATION:Forum Kirchbühl\, Kirchbühlstrasse 40\, 8712 Stäfa
TRANSP:OPAQUE
SEQUENCE:0
UID:61951-veranstaltung@ref-staefa-hombrechtikon.ch
DTSTAMP:20260324T102001Z
DESCRIPTION:Ein Treffpunkt für Frauen - von Frauen - mit Frauen. Jeden 2.
  Mittwoch im Monat mit einem anderen\, spannenden und interessanten
  Schwerpunktthema. Für Frauen jeden Alters!\n\nKosten Vortrag mit oder
  ohne Brunch Fr. 10.00.\n \nDie Veranstaltung findet im Forum Kirchbühl
  statt.\n\nHerzlich laden ein:\nMonika Kaspar und das Frauenbrunchteam\n
 \nKontakt\nMonika Kaspar\, Kirchbühlstrasse 40\, 8712 Stäfa\,
  monika.kaspar@ref-staefa-hombrechtikon.ch\, 043 543 96 83\n\n\n\n\n
 \nKontakt: Ursula Pernet\n\nWeitere Infos:
  https://www.ref-staefa-hombrechtikon.ch/veranstaltung/61951
SUMMARY:prov. Frauenbrunch
PRIORITY:5
X-MICROSOFT-CDO-IMPORTANCE:1
CLASS:PUBLIC
END:VEVENT
END:VCALENDAR
