BEGIN:VCALENDAR
PRODID:-//kirchenweb.ch gmbh//veranstaltungsausgabe v2.0//DE
VERSION:2.0
METHOD:PUBLISH
BEGIN:VEVENT
DTSTART:20270309T183000Z
DTEND:20270309T203000Z
LOCATION:ref. Kirche Stäfa\, Kirchbühlstrasse 40\, 8712 Stäfa
TRANSP:OPAQUE
SEQUENCE:0
UID:61893-veranstaltung@ref-staefa-hombrechtikon.ch
DTSTAMP:20260327T191647Z
DESCRIPTION:Kontakt: Silvia Weber\, 078 633 44 16\n\nWeitere Infos:
  https://www.ref-staefa-hombrechtikon.ch/veranstaltung/61893
SUMMARY:Gospelchor: Probe
PRIORITY:5
X-MICROSOFT-CDO-IMPORTANCE:1
CLASS:PUBLIC
END:VEVENT
END:VCALENDAR
