BEGIN:VCALENDAR
PRODID:-//kirchenweb.ch gmbh//veranstaltungsausgabe v2.0//DE
VERSION:2.0
METHOD:PUBLISH
BEGIN:VEVENT
DTSTART:20270112T183000Z
DTEND:20270112T203000Z
LOCATION:Forum Kirchbühl Stäfa\, Kirchbühlstrasse 40\, 8712 Stäfa
TRANSP:OPAQUE
SEQUENCE:0
UID:61745-veranstaltung@ref-staefa-hombrechtikon.ch
DTSTAMP:20260327T191034Z
DESCRIPTION:Kontakt: Silvia Weber\, 078 633 44 16\n\nWeitere Infos:
  https://www.ref-staefa-hombrechtikon.ch/veranstaltung/61745
SUMMARY:Gospelchor: Probe
PRIORITY:5
X-MICROSOFT-CDO-IMPORTANCE:1
CLASS:PUBLIC
END:VEVENT
END:VCALENDAR
