BEGIN:VCALENDAR
PRODID:-//kirchenweb.ch gmbh//veranstaltungsausgabe v2.0//DE
VERSION:2.0
METHOD:PUBLISH
BEGIN:VEVENT
DTSTART:20270110T100000Z
DTEND:20270110T150000Z
LOCATION:Kirchgemeindehaus Blatten\, Bahnweg 6\, 8634 Hombrechtikon
TRANSP:OPAQUE
SEQUENCE:0
UID:61712-veranstaltung@ref-staefa-hombrechtikon.ch
DTSTAMP:20260319T143616Z
DESCRIPTION:Heute feiern wir Kirche Kunterbunt mal ganz anders\, aber
  gewohnt bunt\, nämlich als Teil der Legostadt. Nähere Infos folgen!\n
 \nKontakt: Elisabeth Görnitz\n\nWeitere Infos:
  https://www.ref-staefa-hombrechtikon.ch/veranstaltung/61712
SUMMARY:Kirche Kunterbunt in der kunterbunten Legowelt
PRIORITY:5
X-MICROSOFT-CDO-IMPORTANCE:1
CLASS:PUBLIC
END:VEVENT
END:VCALENDAR
