BEGIN:VCALENDAR
PRODID:-//kirchenweb.ch gmbh//veranstaltungsausgabe v2.0//DE
VERSION:2.0
METHOD:PUBLISH
BEGIN:VEVENT
DTSTART:20270528T170000Z
DTEND:20270528T210000Z
LOCATION:ref. Kirche Stäfa\, Kirchbühlstrasse 40\, 8712 Stäfa
TRANSP:OPAQUE
SEQUENCE:0
UID:61491-veranstaltung@ref-staefa-hombrechtikon.ch
DTSTAMP:20260417T065927Z
DESCRIPTION:Lernen Sie die drei Stäfner Kirchen in ihrer Besonderheit
  kennen! In einer Nacht besuchen wir alle drei Kirchen\, werden geistlich
  und körperlich gestärkt und lernen einander kennen.\n\nApéro & Worship
  um 19.00 Uhr\n\nZnacht & Impuls um 20.30 Uhr\n\nGebet & Dessert um 22.00
  Uhr\n\nNatürlich dürfen Sie auch unterwegs dazustossen oder etwas
  früher den Nachhauseweg antreten.\nEine Anmeldung ist nicht
  erforderlich.\n\nKontakt: Tobias Kuratle\n\nWeitere Infos:
  https://www.ref-staefa-hombrechtikon.ch/veranstaltung/61491
SUMMARY:Lange Nacht der Kirchen
PRIORITY:5
X-MICROSOFT-CDO-IMPORTANCE:1
CLASS:PUBLIC
END:VEVENT
END:VCALENDAR
