BEGIN:VCALENDAR
PRODID:-//kirchenweb.ch gmbh//veranstaltungsausgabe v2.0//DE
VERSION:2.0
METHOD:PUBLISH
BEGIN:VEVENT
DTSTART:20270314T081500Z
DTEND:20270314T091500Z
LOCATION:ref. Kirche Hombrechtikon\, Oetwilerstrasse 35\, 8634
  Hombrechtikon
TRANSP:OPAQUE
SEQUENCE:0
UID:61456-veranstaltung@ref-staefa-hombrechtikon.ch
DTSTAMP:20260326T132754Z
DESCRIPTION:Kinder im Gottesdienst\nKinder sind im Gottesdienst herzlich
  willkommen. Beim Eingang der Kirche steht für sie die Kinderecke zur
  Verfügung\, die zum Geschichten hören mit der Tonie-Box\, lesen\, malen
  und leise spielen einlädt. Eltern können in den angrenzenden
  Kirchenbänken unmittelbar daneben gerne Platz nehmen.\n\nKontakt:
  gottesdienste.ref-staefa@ref-staefa-hombrechtikon.ch\n\nWeitere Infos:
  https://www.ref-staefa-hombrechtikon.ch/veranstaltung/61456
SUMMARY:Gottesdienst
PRIORITY:5
X-MICROSOFT-CDO-IMPORTANCE:1
CLASS:PUBLIC
END:VEVENT
END:VCALENDAR
