BEGIN:VCALENDAR
PRODID:-//kirchenweb.ch gmbh//veranstaltungsausgabe v2.0//DE
VERSION:2.0
METHOD:PUBLISH
BEGIN:VEVENT
DTSTART:20270224T174500Z
DTEND:20270224T183000Z
LOCATION:ref. Kirche Hombrechtikon\, Oetwilerstrasse 39\, 8634
  Hombrechtikon
TRANSP:OPAQUE
SEQUENCE:0
UID:61449-veranstaltung@ref-staefa-hombrechtikon.ch
DTSTAMP:20260224T110632Z
DESCRIPTION:Jeweils am Mittwochabend findet während der Passionszeit das
  liturgische Abendgebet statt. Es bietet während rund 20 Minuten die
  Möglichkeit\, mit Orgelmusik und Liedern\, Psalmlesungen und Gebeten\,
  in sich zu kehren\, sich auf das Wesentliche zu konzentrieren und Kraft
  zu schöpfen aus dem Wort Gottes.\n\nKontakt:
  gottesdienste.ref-staefa@ref-staefa-hombrechtikon.ch\n\nWeitere Infos:
  https://www.ref-staefa-hombrechtikon.ch/veranstaltung/61449
SUMMARY:Abendgebet in der Passionszeit mit Taizéliedern
PRIORITY:5
X-MICROSOFT-CDO-IMPORTANCE:1
CLASS:PUBLIC
END:VEVENT
END:VCALENDAR
