BEGIN:VCALENDAR
PRODID:-//kirchenweb.ch gmbh//veranstaltungsausgabe v2.0//DE
VERSION:2.0
METHOD:PUBLISH
BEGIN:VEVENT
DTSTART:20260603T170000Z
DTEND:20260603T180000Z
LOCATION:ref. Kirche Hombrechtikon\, Oetwilerstrasse 39\, 8634
  Hombrechtikon
TRANSP:OPAQUE
SEQUENCE:0
UID:61242-veranstaltung@ref-staefa-hombrechtikon.ch
DTSTAMP:20260330T142310Z
DESCRIPTION:Vorprobe: 17.15 Uhr\nKonzertbeginn: 19.00 Uhr \n\nKontakt:
  Katharina Maier-Boesch\n\nWeitere Infos:
  https://www.ref-staefa-hombrechtikon.ch/veranstaltung/61242
SUMMARY:Singschule: Jugendchor Konzert
PRIORITY:5
X-MICROSOFT-CDO-IMPORTANCE:1
CLASS:PUBLIC
END:VEVENT
END:VCALENDAR
