BEGIN:VCALENDAR
PRODID:-//kirchenweb.ch gmbh//veranstaltungsausgabe v2.0//DE
VERSION:2.0
METHOD:PUBLISH
BEGIN:VEVENT
DTSTART:20260531T080000Z
DTEND:20260531T090000Z
LOCATION:ref. Kirche Stäfa\, Kirchbühlstrasse 40\, 8712 Stäfa
TRANSP:OPAQUE
SEQUENCE:0
UID:61240-veranstaltung@ref-staefa-hombrechtikon.ch
DTSTAMP:20260210T160349Z
DESCRIPTION:Vorprobe: 8.00 Uhr\nBeginn Gottesdienst: 10.00 Uhr\n\nKontakt:
  Katharina Maier-Boesch\n\nWeitere Infos:
  https://www.ref-staefa-hombrechtikon.ch/veranstaltung/61240
SUMMARY:Singschule: Jugendchor Mitwirkung Konf-Gottesdienst
PRIORITY:5
X-MICROSOFT-CDO-IMPORTANCE:1
CLASS:PUBLIC
END:VEVENT
END:VCALENDAR
