BEGIN:VCALENDAR
PRODID:-//kirchenweb.ch gmbh//veranstaltungsausgabe v2.0//DE
VERSION:2.0
METHOD:PUBLISH
BEGIN:VEVENT
DTSTART:20260328T170000Z
DTEND:20260328T180000Z
LOCATION:Kath. Kirche Stäfa\, Kreuzstrasse 15\, 8712 Stäfa
TRANSP:OPAQUE
SEQUENCE:0
UID:61203-veranstaltung@ref-staefa-hombrechtikon.ch
DTSTAMP:20260309T145524Z
DESCRIPTION:Am Samstagabend vor Palmsonntag feiert die Kath. Pfarrei den
  Einzug von Jesus in Jerusalem mit einem Gottesdienst für die ganze
  Familie. Die Chorkinder aus dem Cantalino und dem Kinderchor werden mit
  ihren Liedern die Geschichte mitgestalten und laden auch herzlich ein zum
  Mitsingen und Mitfeiern. Am Klavier musiziert Andrea Paglia. Herzlich
  willkommen!\n\nKatharina Maier-Boesch\, Leitung Ökumenische Singschule
  Stäfa\n\n\n\nKontakt: Katharina Maier-Boesch\n\nWeitere Infos:
  https://www.ref-staefa-hombrechtikon.ch/veranstaltung/61203
SUMMARY:Singschule: Mitwirkung Gottesdienst Cantalino und Kinderchor
PRIORITY:5
X-MICROSOFT-CDO-IMPORTANCE:1
CLASS:PUBLIC
END:VEVENT
END:VCALENDAR
