BEGIN:VCALENDAR
PRODID:-//kirchenweb.ch gmbh//veranstaltungsausgabe v2.0//DE
VERSION:2.0
METHOD:PUBLISH
BEGIN:VEVENT
DTSTART:20260328T161500Z
DTEND:20260328T171500Z
LOCATION:Kath. Kirche Stäfa\, Kreuzstrasse 15\, 8712 Stäfa
TRANSP:OPAQUE
SEQUENCE:0
UID:61202-veranstaltung@ref-staefa-hombrechtikon.ch
DTSTAMP:20260223T165130Z
DESCRIPTION:16.30 Vorprobe Kinderchor\n17.15 Vorprobe Cantalino\n18.00
  Beginn Gottesdienst\n\nKontakt: Katharina Maier-Boesch\n\nWeitere Infos:
  https://www.ref-staefa-hombrechtikon.ch/veranstaltung/61202
SUMMARY:Singschule: Mitwirkung Gottesdienst Cantalino und Kinderchor
  Vorprobe
PRIORITY:5
X-MICROSOFT-CDO-IMPORTANCE:1
CLASS:PUBLIC
END:VEVENT
END:VCALENDAR
