BEGIN:VCALENDAR
PRODID:-//kirchenweb.ch gmbh//veranstaltungsausgabe v2.0//DE
VERSION:2.0
METHOD:PUBLISH
BEGIN:VEVENT
DTSTART:20260508T150000Z
DTEND:20260508T160000Z
LOCATION:ref. Kirche Stäfa\, Kirchbühlstrasse 40\, 8712 Stäfa
TRANSP:OPAQUE
SEQUENCE:0
UID:61201-veranstaltung@ref-staefa-hombrechtikon.ch
DTSTAMP:20260213T155016Z
DESCRIPTION:Schnupperprobe im Kinderchor für alle 1. Klässler*innen im
  Cantalino A und C\n\nKontakt: Katharina Maier\, 043 305 71 05\n\nWeitere
  Infos: https://www.ref-staefa-hombrechtikon.ch/veranstaltung/61201
SUMMARY:Singschule: Cantalino Schnupperprobe im Kinderchor
PRIORITY:5
X-MICROSOFT-CDO-IMPORTANCE:1
CLASS:PUBLIC
END:VEVENT
END:VCALENDAR
