BEGIN:VCALENDAR
PRODID:-//kirchenweb.ch gmbh//veranstaltungsausgabe v2.0//DE
VERSION:2.0
METHOD:PUBLISH
BEGIN:VEVENT
DTSTART:20260619T153000Z
DTEND:20260619T163000Z
LOCATION:Friedhof Stäfa\, Kirchbühlstrasse 40\, 8712 Stäfa
TRANSP:OPAQUE
SEQUENCE:0
UID:61200-veranstaltung@ref-staefa-hombrechtikon.ch
DTSTAMP:20260317T121212Z
DESCRIPTION:Vorproben Sommerkonzert\n17.30 Uhr Konzert- und Jugendchor
 \n17.45 Uhr Kinderchor\n18.15 Uhr Cantalino A und B\n\nKontakt: Katharina
  Maier\, 043 305 71 05\n\nWeitere Infos:
  https://www.ref-staefa-hombrechtikon.ch/veranstaltung/61200
SUMMARY:Singschule: Sommerkonzert Vorprobe alle Chorgruppen
PRIORITY:5
X-MICROSOFT-CDO-IMPORTANCE:1
CLASS:PUBLIC
END:VEVENT
END:VCALENDAR
