BEGIN:VCALENDAR
PRODID:-//kirchenweb.ch gmbh//veranstaltungsausgabe v2.0//DE
VERSION:2.0
METHOD:PUBLISH
BEGIN:VEVENT
DTSTART:20260401T050000Z
DTEND:20260401T160000Z
LOCATION:Forum Kirchbühl Stäfa\, Kirchbühlstrasse 40\, 8712 Stäfa
TRANSP:OPAQUE
SEQUENCE:0
UID:61191-veranstaltung@ref-staefa-hombrechtikon.ch
DTSTAMP:20260328T145525Z
DESCRIPTION:Bei der jährlich wiederkehrenden Aktion «2x Weihnachten»
  werden Personen in finanziell schwierigen Situationen in Stäfa und
  Uerikon mit gespendeten Lebensmitteln und Körperpflegeprodukten
  beschenkt. Die Spenden werden vom Schweizerischen Roten Kreuz jeweils um
  die Weihnachtszeit gesammelt\, sortiert und im Frühling an die
  Verteilstandorte ausgeliefert.\n\nDieses Jahr findet die Verteil-Aktion
  am Mittwoch\, 1. April 2026  im Forum Stäfa statt. \n Am Vormittag von
  09.00 – 12.00 Uhr teilen wir die knapp 4 Tonnen Waren auf die
  verschiedenen Haushalte zu. \nAm Nachmittag liefern wir «die
  Warenkörbe» von 14.00 - ca. 17.00 Uhr an die begünstigten Haushalte in
  Stäfa und Uerikon aus.\n\nZeitplan:\n09.00 – 12.00 Uhr Verteilung der
  gelieferten Waren.\n14.00 – ca. 17.00 Uhr Auslieferung der Warenkörbe
  nach Hause. \n\nZur Unterstützung eines bewährten Teams suchen wir noch
  engagierte HelferInnen\, die gerne mitanpacken und/oder ein Auto besitzen
  und bei der Auslieferung mithelfen.\n\nBei Interesse oder Fragen wendet
  euch gerne an:\nUrsula Pernet\, Kirchbühlstrasse 40\, 8712 Stäfa\,
  ursula.pernet@ref-staefa-hombrechtikon.ch\, 043 543 96 86\nMonika
  Kaspar\, Kirchbühlstrasse 40\, 8712 Stäfa\,
  monika.kaspar@ref-staefa-hombrechtikon.ch\, 043 543 96 83\n\n\n\nKontakt:
  Ursula Pernet\nMonika Kaspar\n\nWeitere Infos:
  https://www.ref-staefa-hombrechtikon.ch/veranstaltung/61191
SUMMARY:2x Weihnachten
PRIORITY:5
X-MICROSOFT-CDO-IMPORTANCE:1
CLASS:PUBLIC
END:VEVENT
END:VCALENDAR
