BEGIN:VCALENDAR
PRODID:-//kirchenweb.ch gmbh//veranstaltungsausgabe v2.0//DE
VERSION:2.0
METHOD:PUBLISH
BEGIN:VEVENT
DTSTART:20260429T100000Z
DTEND:20260429T130000Z
LOCATION:Extern\, \,
TRANSP:OPAQUE
SEQUENCE:0
UID:61168-veranstaltung@ref-staefa-hombrechtikon.ch
DTSTAMP:20260416T062329Z
DESCRIPTION:Das Kulturama-Museum vermittelt Wissen und Wissenschaft über
  den Menschen. \nDie Geschichte des Menschen wird in zwei Zeitreisen
  erzählt: Die erste führt von den Ursprüngen des Lebens vor 3.5
  Millionen Jahren bis zu den frühen Kulturen. Die zweite zeigt die
  Entwicklung des Menschen von der Zeugung bis zum Tod. \nIn der 90 Minuten
  dauernden Führung erfahren wir einiges über die unterschiedlich lange
  dauernden Zeiträume mit ihren besonderen Ereignissen. Wir hören über
  die biologische und kulturelle Evolution des Menschen\, die Entstehung
  von frühen Kulturen und wichtige Innovationen der Menschheit. Die Urzeit
  scheint lange her\, oder doch nicht?\n\nProgramm:\nAnreise:\nWir reisen
  mit den öffentlichen Verkehrsmitteln.\nAbfahrt ab Hombrechtikon Post\,
  Bus 955 (Richtung Stäfa):		12.02 Uhr\nStäfa Bahnhof an:					12.18 Uhr
 \nAbfahrt ab Stäfa Bahnhof (Gleis 2):				12.23 Uhr\nZürich HB
  an:						12.47 Uhr\nZürich Bahnhofplatz Tram Nr. 3 (Richtung
  Klusplatz):		12.54 Uhr\nZürich Hottingerplatz an:					13.01 Uhr\nDas
  Museum erreichen wir zu Fuss in ca. 4 Minuten.\n\nTreffpunkt vor dem
  Museum:				13.10 Uhr\nDie Führung beginnt um 					13.30 Uhr und dauert
  bis ca. 15.00 Uhr.\nEs besteht anschliessend die Möglichkeit im
  nahegelegenen Kunsthaus mit einem Kaffee und etwas Süssem den Nachmittag
  in gemütlicher Runde abzurunden.\n					\nKosten:\nEintritt Kulturama
  inkl. Führung:				Fr. 26.00 (der Museumspass ist nicht gültig)\n
 \nRückreise:\nDie Rückreise kann gemeinsam oder individuell gestaltet
  werden. \n\nFahrkarte:\nDie Teilnehmenden lösen ihr Billett selbst.\n
 \nBezahlung:\nNach dem Ausflug wird eine persönliche Rechnung versendet. 
 \nBei kurzfristiger Abmeldung können Unkosten in Rechnung gestellt
  werden.\n\nGruppengrösse:\nLimitiert auf 15 Personen\, die Anmeldungen
  werden nach Eingang berücksichtigt\n\nVersicherung: \nIst Sache der
  Teilnehmenden\n\nLeitung:\nKarl Hartmann und Ursula Pernet (Mitarbeiterin
  Diakonie)\n\n\n\n\nKontakt: Ursula Pernet\n\nWeitere Infos:
  https://www.ref-staefa-hombrechtikon.ch/veranstaltung/61168
SUMMARY:Ausgebucht! -Besuch des Kulturama-Museum organisiert vom Team
  "Aktive Senioren"
PRIORITY:5
X-MICROSOFT-CDO-IMPORTANCE:1
CLASS:PUBLIC
END:VEVENT
END:VCALENDAR
