BEGIN:VCALENDAR
PRODID:-//kirchenweb.ch gmbh//veranstaltungsausgabe v2.0//DE
VERSION:2.0
METHOD:PUBLISH
BEGIN:VEVENT
DTSTART:20260623T133000Z
DTEND:20260623T143000Z
LOCATION:Forum Kirchbühl\, \,
TRANSP:OPAQUE
SEQUENCE:0
UID:61140-veranstaltung@ref-staefa-hombrechtikon.ch
DTSTAMP:20260418T123549Z
DESCRIPTION:Jeweils um den Wechsel der Jahreszeiten können alle
  Interessierten\, unabhängig vom Alter und Konfession\, im Forum
  Kirchbühl bekannte Volkslieder passend zu den Jahreszeiten singen.
  Singen in Gemeinschaft macht Freude und die Lieder\, die früher gesungen
  wurden\, wecken Erinnerungen.\nMusikalisch wird das Singen von Maria Mark
  auf dem Flügel unterstützt. \n\nHerzlich laden ein:\nMaria Mark und
  Monika Kaspar\n\nKontakt Monika Kaspar\n\nKontakt: Monika Kaspar\n
 \nWeitere Infos:
  https://www.ref-staefa-hombrechtikon.ch/veranstaltung/61140
SUMMARY:Jahreszeitensingen Sommer
PRIORITY:5
X-MICROSOFT-CDO-IMPORTANCE:1
CLASS:PUBLIC
END:VEVENT
END:VCALENDAR
