BEGIN:VCALENDAR
PRODID:-//kirchenweb.ch gmbh//veranstaltungsausgabe v2.0//DE
VERSION:2.0
METHOD:PUBLISH
BEGIN:VEVENT
DTSTART;VALUE=DATE:20260825
DTEND;VALUE=DATE:20260826
LOCATION:Kirchgemeindehaus Blatten\, Bahnweg 6\, 8634 Hombrechtikon
TRANSP:OPAQUE
SEQUENCE:0
UID:61136-veranstaltung@ref-staefa-hombrechtikon.ch
DTSTAMP:20260422T145056Z
DESCRIPTION:Einmal monatlich findet im Kirchgemeindehaus Blatten in
  Hombrechtikon ein Mittagstisch statt. Freiwillige kochen einen feinen
  Zmittag (Vegi oder mit Fleisch). Gross und Klein\, Jung und Alt sind
  willkommen. Einmal nicht selbst kochen\, einfach nur kommen\, an den
  gedeckten Tisch sitzen und mit anderen gemeinsam essen.\n\nFür die
  Mittagessen steht ein Kässeli bereit\nErwachsene 8.- / Kinder 5.-\n\n
 \nweitere Termine:\n\n\nKontakt: Ursula Pernet\n\nWeitere Infos:
  https://www.ref-staefa-hombrechtikon.ch/veranstaltung/61136
SUMMARY:Mittagstisch Hombrechtikon
PRIORITY:5
X-MICROSOFT-CDO-IMPORTANCE:1
CLASS:PUBLIC
END:VEVENT
END:VCALENDAR
