BEGIN:VCALENDAR
PRODID:-//kirchenweb.ch gmbh//veranstaltungsausgabe v2.0//DE
VERSION:2.0
METHOD:PUBLISH
BEGIN:VEVENT
DTSTART:20260608T120000Z
DTEND:20260608T133000Z
LOCATION:Forum Kirchbühl\, \,
TRANSP:OPAQUE
SEQUENCE:0
UID:61108-veranstaltung@ref-staefa-hombrechtikon.ch
DTSTAMP:20260418T124246Z
DESCRIPTION:Ältere Menschen sind öfter Opfer von unterschiedlicher
  Kriminalität\nwie Betrug\, Diebstahl oder Gefahren im Internet. Ihre
 \nGutgläubigkeit\, Hilfsbereitschaft oder Unsicherheit werden\ngezielt
  ausgenutzt. Seniorinnen und Senioren werden eher\nOpfer von Straftaten\,
  die auf Täuschungen basieren. Täter\nsuchen auch nach Personen\, die in
  ihrer Mobilität eingeschränkt\,\nallein oder einsam sind. Sie geben
  ihnen das Gefühl\,\nbeachtet\, gebraucht und anerkannt zu sein.\n\nAuch
  in den Gemeinden Stäfa-Hombrechtikon geschehen\nimmer wieder Straftaten
  - auch bei Menschen\, die nie dachten\,\ndass sie Opfer von Betrügereien
  werden könnten.\nDiebe und Betrüger haben es auf Ihr Geld abgesehen.
  Die\nPolizei registriert täglich Diebstähle und Betrügereien auf der
 \nStrasse\, beim Einkaufen und an der Haustüre. Ebenfalls ist das
 \nTelefon ein beliebtes Mittel\, um den Kontakt herzustellen. Der
 \ngrösste Irrglaube in der Bevölkerung unterstützt das Treiben\nder
  Straftäter: „Mir kann so etwas nicht passieren“ ist leider ein
  Trugschluss.\n \nDer Referent Herr Grossholz\, ein erfahrenerer
  Präventionsfachmann der Kantonspolizei Zürich\, erklärt Ihnen\, auf
  was Sie achten müssen und wie Sie sich schützen können. \nNebst dem
  Referat bleibt Zeit\, Ihre Fragen zu beantworten.\n\nEine
  Impulsveranstaltung der Gruppe "Gut betreut im Alter in Stäfa".\n\nDer
  Anlass ist kostenlos. Eine Anmeldung ist nicht nötig.\n\nSozialdiakonin
  Monika Kaspar\, Kirchbühlstrasse 40\, 8712 Stäfa\,
  monika.kaspar@ref-staefa-hombrechtikon.ch\, 043 543 96 83\n\n\n\nKontakt:
  Monika Kaspar\n\nWeitere Infos:
  https://www.ref-staefa-hombrechtikon.ch/veranstaltung/61108
SUMMARY:Prävention im Bereich Telefonbetrug und Sicherheit zuhause
PRIORITY:5
X-MICROSOFT-CDO-IMPORTANCE:1
CLASS:PUBLIC
END:VEVENT
END:VCALENDAR
