BEGIN:VCALENDAR
PRODID:-//kirchenweb.ch gmbh//veranstaltungsausgabe v2.0//DE
VERSION:2.0
METHOD:PUBLISH
BEGIN:VEVENT
DTSTART:20260317T143000Z
DTEND:20260317T153000Z
LOCATION:Forum Kirchbühl\, \,
TRANSP:OPAQUE
SEQUENCE:0
UID:61079-veranstaltung@ref-staefa-hombrechtikon.ch
DTSTAMP:20260326T153401Z
DESCRIPTION:Jeweils um den Wechsel der Jahreszeiten können alle
  Interessierten\, unabhängig vom Alter und Konfession\, im Forum
  Kirchbühl bekannte Volkslieder passend zu den Jahreszeiten singen.
  Musikalisch wird das Singen von Maria Mark auf dem Flügel unterstützt.
 \n\nDer Beginn des Frühlingssingens fällt mit dem Spriessen der Knospen
  und Neuerwachen der Natur zusammen. Mit freudigem Singen begrüssen wir
  diese Jahreszeit.\n\nHerzlich laden ein:\nMaria Mark und Monika Kaspar\n
 \nKontakt Monika Kaspar\n\n\nKontakt: Monika Kaspar\n\nWeitere Infos:
  https://www.ref-staefa-hombrechtikon.ch/veranstaltung/61079
SUMMARY:Jahreszeitensingen Frühling
PRIORITY:5
X-MICROSOFT-CDO-IMPORTANCE:1
CLASS:PUBLIC
END:VEVENT
END:VCALENDAR
