BEGIN:VCALENDAR
PRODID:-//kirchenweb.ch gmbh//veranstaltungsausgabe v2.0//DE
VERSION:2.0
METHOD:PUBLISH
BEGIN:VEVENT
DTSTART:20260410T163000Z
DTEND:20260410T173000Z
LOCATION:Forum Kirchbühl Stäfa\, Kirchbühlstrasse 40\, 8712 Stäfa
TRANSP:OPAQUE
SEQUENCE:0
UID:61063-veranstaltung@ref-staefa-hombrechtikon.ch
DTSTAMP:20260330T141828Z
DESCRIPTION:Eine spannende Uhrengeschichte gesungen vom Konzertchor in
  Stäfa und Zürich-Altstetten.\n\n«Sekunden zerhacken\, Minuten
  zerknacken»: Pausenlos marschieren die Uhren auf und ab\, angetrieben
  von der Superuhr und ihren Gehilfen. Aber allmählich rumort es im
  Uhrenland. Die ersten\, die sich dagegen sträuben sind Bobby\, der
  Aufziehwecker\, und Elvis\, der Radiowecker. Verfolgt von der Superuhr\,
  kommen sie bei der alten Sonnenuhr unter\, der Gegenspielerin der
  Superuhr. Nach und nach entdecken auch die anderen Uhren\, dass es
  Wichtigeres gibt als das ewige Gehetze im Takt der Zeit. « Ausgetickt?
  – Die Stunde der Uhren » ist ein musikalisch-literarisches Konzert
  rund um das Thema Zeit. \n\nDer Konzertchor singt Chorstücke
  verschiedener Stilrichtungen und Lieder aus dem gleichnamigen Musical.
  Humorvolle\, poetische und philosophische Texte und Dialoge von G. A.
  Meyer\, G. Weiler und E. Kästner u.a. wechseln sich mit den
  Musikstücken des Konzertchores jeweils ab\, sind aufeinander abgestimmt
  und ergänzen sich in ihrer inneren Gefühlswelt.\n\nEine wunderbare
  Zeitreise für die ganze Familie!\n\nKlavier: Maria Mark \nRezitation:
  Isabelle Gichtbrock\nLeitung: Katharina Maier-Boesch\n\nKontakt:
  Katharina Maier-Boesch\n\nWeitere Infos:
  https://www.ref-staefa-hombrechtikon.ch/veranstaltung/61063
SUMMARY:Singschule: Musical "Ausgetickt - Die Stunde der Uhren"
PRIORITY:5
X-MICROSOFT-CDO-IMPORTANCE:1
CLASS:PUBLIC
END:VEVENT
END:VCALENDAR
