BEGIN:VCALENDAR
PRODID:-//kirchenweb.ch gmbh//veranstaltungsausgabe v2.0//DE
VERSION:2.0
METHOD:PUBLISH
BEGIN:VEVENT
DTSTART:20261023T153000Z
DTEND:20261023T163000Z
LOCATION:Forum Kirchbühl Stäfa\, Kirchbühlstrasse 40\, 8712 Stäfa
TRANSP:OPAQUE
SEQUENCE:0
UID:60925-veranstaltung@ref-staefa-hombrechtikon.ch
DTSTAMP:20260126T160034Z
DESCRIPTION:Heute:\n17.30 Uhr\, Startpunkt Kirchbühlstrasse 40 mit Monika
  Götte\, meditativer Herbstspaziergang in den Herbstabend\n\nMeditative
  Spaziergänge laden dazu ein\, im Gehen zur Ruhe zu kommen und Körper\,
  Atem und Umgebung bewusst wahrzunehmen. In achtsamen Schritten öffnen
  wir uns für die Stille\, für innere Bewegung und für das\, was uns auf
  dem Weg begegnet. Die Spaziergänge finden sechs Mal im Jahr in
  Stäfa/Hombi statt (bei verträglichem Wetter) und dauern ca.1 Stunde.
  Sie beginnen mit einem kurzen Impuls für den Weg\, können Stationen
  oder ein Lied einschliessen und enden mit Gebet und Segen.\n\nAusgangs-
  und Zielpunkt sind identisch. \n\nKontakt: Monika Götte\n\nWeitere
  Infos: https://www.ref-staefa-hombrechtikon.ch/veranstaltung/60925
SUMMARY:Meditativer Spaziergang
PRIORITY:5
X-MICROSOFT-CDO-IMPORTANCE:1
CLASS:PUBLIC
END:VEVENT
END:VCALENDAR
