BEGIN:VCALENDAR
PRODID:-//kirchenweb.ch gmbh//veranstaltungsausgabe v2.0//DE
VERSION:2.0
METHOD:PUBLISH
BEGIN:VEVENT
DTSTART:20260927T133000Z
DTEND:20260927T143000Z
LOCATION:Stand der ref. Kirche am SlowUp beim Ritterhaus in Uerikon\,
  Ritterhausareal\, 8713 Uerikon
TRANSP:OPAQUE
SEQUENCE:0
UID:60924-veranstaltung@ref-staefa-hombrechtikon.ch
DTSTAMP:20260126T160142Z
DESCRIPTION:Heute:\n15.30 Uhr\, Startpunkt Stand Kirche am SlowUp in
  Uerikon mit Elisabeth Görnitz\, Sattelfest mit Gottes Segen
 \n(meditatives Velofahren am SlowUp)\n\nMeditative Spaziergänge (dieses
  Mal: meditatives Velofahren) laden dazu ein\, im Gehen zur Ruhe zu kommen
  und Körper\, Atem und Umgebung bewusst wahrzunehmen. In achtsamen
  Schritten öffnen wir uns für die Stille\, für innere Bewegung und für
  das\, was uns auf dem Weg begegnet. Die Spaziergänge finden sechs Mal im
  Jahr in Stäfa/Hombi statt (bei verträglichem Wetter) und dauern ca.1
  Stunde. Sie beginnen mit einem kurzen Impuls für den Weg\, können
  Stationen oder ein Lied einschliessen und enden mit Gebet und Segen.\n
 \nAusgangs- und Zielpunkt sind identisch. \n\nKontakt: Elisabeth Görnitz
 \n\nWeitere Infos:
  https://www.ref-staefa-hombrechtikon.ch/veranstaltung/60924
SUMMARY:Meditatives Velofahren: Sattelfest mit Gottes Segen
PRIORITY:5
X-MICROSOFT-CDO-IMPORTANCE:1
CLASS:PUBLIC
END:VEVENT
END:VCALENDAR
