BEGIN:VCALENDAR
PRODID:-//kirchenweb.ch gmbh//veranstaltungsausgabe v2.0//DE
VERSION:2.0
METHOD:PUBLISH
BEGIN:VEVENT
DTSTART:20260616T164500Z
DTEND:20260616T174500Z
LOCATION:Lützelsee\, Treffpunkt beim Parkplatz Lützelsee\, 8634
  Hombrechtikon
TRANSP:OPAQUE
SEQUENCE:0
UID:60923-veranstaltung@ref-staefa-hombrechtikon.ch
DTSTAMP:20260126T160129Z
DESCRIPTION:Heute:\n18.45 Uhr\, Startpunkt Lützelsee mit Monika Götte\n
 \nMeditative Spaziergänge laden dazu ein\, im Gehen zur Ruhe zu kommen
  und Körper\, Atem und Umgebung bewusst wahrzunehmen. In achtsamen
  Schritten öffnen wir uns für die Stille\, für innere Bewegung und für
  das\, was uns auf dem Weg begegnet. Die Spaziergänge finden sechs Mal im
  Jahr in Stäfa/Hombi statt (bei verträglichem Wetter) und dauern ca.1
  Stunde. Sie beginnen mit einem kurzen Impuls für den Weg\, können
  Stationen oder ein Lied einschliessen und enden mit Gebet und Segen.\n
 \nAusgangs- und Zielpunkt sind identisch. \n\nKontakt: Monika Götte\n
 \nWeitere Infos:
  https://www.ref-staefa-hombrechtikon.ch/veranstaltung/60923
SUMMARY:Meditativer Spaziergang
PRIORITY:5
X-MICROSOFT-CDO-IMPORTANCE:1
CLASS:PUBLIC
END:VEVENT
END:VCALENDAR
