BEGIN:VCALENDAR
PRODID:-//kirchenweb.ch gmbh//veranstaltungsausgabe v2.0//DE
VERSION:2.0
METHOD:PUBLISH
BEGIN:VEVENT
DTSTART:20260406T130000Z
DTEND:20260406T140000Z
LOCATION:Vor dem Kirchgemeindebüro im Eich\,  Eichstrasse 88\, 8713
  Uerikon
TRANSP:OPAQUE
SEQUENCE:0
UID:60921-veranstaltung@ref-staefa-hombrechtikon.ch
DTSTAMP:20260126T160103Z
DESCRIPTION:Heute;\n15.00 Uhr\, Startpunkt Eichstrasse 88 mit Elisabeth
  Görnitz\n(Ostermontagsspaziergang)\n\nMeditative Spaziergänge laden
  dazu ein\, im Gehen zur Ruhe zu kommen und Körper\, Atem und Umgebung
  bewusst wahrzunehmen. In achtsamen Schritten öffnen wir uns für die
  Stille\, für innere Bewegung und für das\, was uns auf dem Weg
  begegnet. Die Spaziergänge finden sechs Mal im Jahr in Stäfa/Hombi
  statt (bei verträglichem Wetter) und dauern ca.1 Stunde. Sie beginnen
  mit einem kurzen Impuls für den Weg\, können Stationen oder ein Lied
  einschliessen und enden mit Gebet und Segen.\n\nAusgangs- und Zielpunkt
  sind identisch. \n\nKontakt: Elisabeth Görnitz\n\nWeitere Infos:
  https://www.ref-staefa-hombrechtikon.ch/veranstaltung/60921
SUMMARY:Meditativer Spaziergang am Ostermontag
PRIORITY:5
X-MICROSOFT-CDO-IMPORTANCE:1
CLASS:PUBLIC
END:VEVENT
END:VCALENDAR
