BEGIN:VCALENDAR
PRODID:-//kirchenweb.ch gmbh//veranstaltungsausgabe v2.0//DE
VERSION:2.0
METHOD:PUBLISH
BEGIN:VEVENT
DTSTART:20260528T171500Z
DTEND:20260528T181500Z
LOCATION:Kirchgemeindehaus Blatten\, Bahnweg 6\, 8634 Hombrechtikon
TRANSP:OPAQUE
SEQUENCE:0
UID:60903-veranstaltung@ref-staefa-hombrechtikon.ch
DTSTAMP:20260109T133732Z
DESCRIPTION:Einmal im Monat treffen wir uns zum Austausch über einen
  Bibeltext\, der dann in einem der folgenden Gottesdienste die Grundlage
  für die Predigt sein wird. Dabei möchten wir in einem offenen Gespräch
  der Frage nachgehen\, was der Bibeltext bei uns auslöst und was er uns
  heute zu sagen\nhat. So machen wir uns gemeinsam auf den Weg\, teilen
  unsere Fragen und Gedanken und lernen voneinander.\n\nBibeltext:
  Apostelgeschichte 4\, 32-37 (für den 7. Juni 2026)\n\nKontakt: David
  Jäger\n\nWeitere Infos:
  https://www.ref-staefa-hombrechtikon.ch/veranstaltung/60903
SUMMARY:Bibelgespräch
PRIORITY:5
X-MICROSOFT-CDO-IMPORTANCE:1
CLASS:PUBLIC
END:VEVENT
END:VCALENDAR
