BEGIN:VCALENDAR
PRODID:-//kirchenweb.ch gmbh//veranstaltungsausgabe v2.0//DE
VERSION:2.0
METHOD:PUBLISH
BEGIN:VEVENT
DTSTART:20260312T181500Z
DTEND:20260312T191500Z
LOCATION:Kirchgemeindehaus Blatten\, Bahnweg 6\, 8634 Hombrechtikon
TRANSP:OPAQUE
SEQUENCE:0
UID:60901-veranstaltung@ref-staefa-hombrechtikon.ch
DTSTAMP:20260109T133706Z
DESCRIPTION:Einmal im Monat treffen wir uns zum Austausch über einen
  Bibeltext\, der dann in einem der folgenden Gottesdienste die Grundlage
  für die Predigt sein wird. Dabei möchten wir in einem offenen Gespräch
  der Frage nachgehen\, was der Bibeltext bei uns auslöst und was er uns
  heute zu sagen\nhat. So machen wir uns gemeinsam auf den Weg\, teilen
  unsere Fragen und Gedanken und lernen voneinander.\n\nBibeltext: Hebräer
  13\, 12-14 (für den 22. März 2026)\n\nKontakt: David Jäger\n\nWeitere
  Infos: https://www.ref-staefa-hombrechtikon.ch/veranstaltung/60901
SUMMARY:Bibelgespräch
PRIORITY:5
X-MICROSOFT-CDO-IMPORTANCE:1
CLASS:PUBLIC
END:VEVENT
END:VCALENDAR
