BEGIN:VCALENDAR
PRODID:-//kirchenweb.ch gmbh//veranstaltungsausgabe v2.0//DE
VERSION:2.0
METHOD:PUBLISH
BEGIN:VEVENT
DTSTART:20260624T044500Z
DTEND:20260624T053000Z
LOCATION:Pfarrhauskeller Stäfa\, Kirchbühlstrasse 40\, 8712 Stäfa
TRANSP:OPAQUE
SEQUENCE:0
UID:60833-veranstaltung@ref-staefa-hombrechtikon.ch
DTSTAMP:20251219T130243Z
DESCRIPTION:Gott des Lichts\,\nwecke unsere Lebensfreude\,\nbegleite uns
  an diesem Tag\,\nhilf uns in allen Aufgaben und Entscheidungen\,\nlass
  uns deinen Willen erkennen und tun.\n\nJeden zweiten Mittwochmorgen
  beginnen wir unseren Tag im Pfarrhauskeller auf Kirchbühl\, Stäfa mit
  dem Bibelwort für den Tag\, Liedern\, einem Bibeltext und Gebeten. Wir
  beten für unsere Gemeinde\, unser Land und für unsere Nächsten in Not
  sowie die eigenen Bedürfnisse. Nach einem kurzen Austauschen kehren wir
  bereichert und getragen in den Alltag zurück.\n\nWer mag\, schliesst das
  Treffen mit einem Kaffee oder Tee im Forum ab.\n\nKontakt:
 \nhttps://monika.goette@ref-staefa-hombrechtikon.ch\n\nKontakt: Monika
  Götte\n\nWeitere Infos:
  https://www.ref-staefa-hombrechtikon.ch/veranstaltung/60833
SUMMARY:Frühgebet für die Kirchgemeinde
PRIORITY:5
X-MICROSOFT-CDO-IMPORTANCE:1
CLASS:PUBLIC
END:VEVENT
END:VCALENDAR
