BEGIN:VCALENDAR
PRODID:-//kirchenweb.ch gmbh//veranstaltungsausgabe v2.0//DE
VERSION:2.0
METHOD:PUBLISH
BEGIN:VEVENT
DTSTART:20260619T070000Z
DTEND:20260619T080000Z
LOCATION:Kath. Pfarreizentrum Stäfa\, Kreuzstrasse 15\, 8712 Stäfa
TRANSP:OPAQUE
SEQUENCE:0
UID:60721-veranstaltung@ref-staefa-hombrechtikon.ch
DTSTAMP:20251209T074405Z
DESCRIPTION:mit Bruno Gut-Fuchs\, kath. Diakon und Tobias Kuratle\, ref.
  Pfarrer \n\nGemeinsam lassen wir biblische Texte auf uns wirken und
  vertiefen unsere Eindrücke im Gespräch. Fragen haben im gegenseitigen
  Austausch ebenso Raum wie Hintergrundinformationen und die Anwendung des
  Gehörten auf das eigene Leben.\n\nWir lesen den Bibeltext gemeinsam\,
  eine Vorbereitung ist nicht nötig.\n\nEine Anmeldung ist nicht nötig\,
  auch spontanes Schnuppern bei den Bibelgesprächen ist willkommen.\n
 \nAnschliessend ist Zeit und Gelegenheit für Kaffee/Tee.\nWir laden Sie
  herzlich ein.\n\nKontakt: Tobias Kuratle\n\nWeitere Infos:
  https://www.ref-staefa-hombrechtikon.ch/veranstaltung/60721
SUMMARY:Ökumenisches Bibelgespräch
PRIORITY:5
X-MICROSOFT-CDO-IMPORTANCE:1
CLASS:PUBLIC
END:VEVENT
END:VCALENDAR
