BEGIN:VCALENDAR
PRODID:-//kirchenweb.ch gmbh//veranstaltungsausgabe v2.0//DE
VERSION:2.0
METHOD:PUBLISH
BEGIN:VEVENT
DTSTART:20260524T064500Z
DTEND:20260524T074500Z
LOCATION:ref. Kirche Hombrechtikon\, \,
TRANSP:OPAQUE
SEQUENCE:0
UID:60684-veranstaltung@ref-staefa-hombrechtikon.ch
DTSTAMP:20260212T085408Z
DESCRIPTION:Auf telefonische Anmeldung holen wir Sie an Ihrem Wohnort ab.
 \nBitte bis am Vortag bei der Fahrerin melden:\n079 329 56 47\n\n
 \nKontakt: Ursula Pernet\n\nWeitere Infos:
  https://www.ref-staefa-hombrechtikon.ch/veranstaltung/60684
SUMMARY:Fahrdienst: Trudy Schulthess\, 079 329 56 47
PRIORITY:5
X-MICROSOFT-CDO-IMPORTANCE:1
CLASS:PUBLIC
END:VEVENT
END:VCALENDAR
