BEGIN:VCALENDAR
PRODID:-//kirchenweb.ch gmbh//veranstaltungsausgabe v2.0//DE
VERSION:2.0
METHOD:PUBLISH
BEGIN:VEVENT
DTSTART:20260621T073000Z
DTEND:20260621T083000Z
LOCATION:ref. Kirche Hombrechtikon\, Oetwilerstrasse 39\, 8634
  Hombrechtikon
TRANSP:OPAQUE
SEQUENCE:0
UID:60676-veranstaltung@ref-staefa-hombrechtikon.ch
DTSTAMP:20260212T084904Z
DESCRIPTION:Auf telefonische Anmeldung holen wir Sie an Ihrem Wohnort ab.
 \nBitte bis am Vortag bei der Fahrerin melden:\n055 244 43 83\n\nKontakt:
  Ursula Pernet\n\nWeitere Infos:
  https://www.ref-staefa-hombrechtikon.ch/veranstaltung/60676
SUMMARY:Fahrdienst: Sonja Nick\, 055 244 43 83
PRIORITY:5
X-MICROSOFT-CDO-IMPORTANCE:1
CLASS:PUBLIC
END:VEVENT
END:VCALENDAR
