BEGIN:VCALENDAR
PRODID:-//kirchenweb.ch gmbh//veranstaltungsausgabe v2.0//DE
VERSION:2.0
METHOD:PUBLISH
BEGIN:VEVENT
DTSTART:20260628T064500Z
DTEND:20260628T074500Z
LOCATION:ref. Kirche Hombrechtikon\, Oetwilerstrasse 39\, 8634
  Hombrechtikon
TRANSP:OPAQUE
SEQUENCE:0
UID:60669-veranstaltung@ref-staefa-hombrechtikon.ch
DTSTAMP:20260212T085838Z
DESCRIPTION:Auf telefonische Anmeldung holen wir Sie an Ihrem Wohnort ab.
 \nBitte bis am Vortag bei der Fahrerin melden:\n079 642 28 68\n\n
 \nKontakt: Ursula Pernet\n\nWeitere Infos:
  https://www.ref-staefa-hombrechtikon.ch/veranstaltung/60669
SUMMARY:Fahrdienst: Silvia Baumann\, 079 642 28 68
PRIORITY:5
X-MICROSOFT-CDO-IMPORTANCE:1
CLASS:PUBLIC
END:VEVENT
END:VCALENDAR
