BEGIN:VCALENDAR
PRODID:-//kirchenweb.ch gmbh//veranstaltungsausgabe v2.0//DE
VERSION:2.0
METHOD:PUBLISH
BEGIN:VEVENT
DTSTART:20260531T064500Z
DTEND:20260531T074500Z
LOCATION:ref. Kirche Hombrechtikon\, Oetwilerstrasse 39\, 8634
  Hombrechtikon
TRANSP:OPAQUE
SEQUENCE:0
UID:60661-veranstaltung@ref-staefa-hombrechtikon.ch
DTSTAMP:20260212T141525Z
DESCRIPTION:Auf telefonische Anmeldung holen wir Sie an Ihrem Wohnort ab.
 \nBitte bis am Vortag bei der Fahrerin melden:\n055 244 19 22\n\nKontakt:
  Ursula Pernet\n\n\nWeitere Infos:
  https://www.ref-staefa-hombrechtikon.ch/veranstaltung/60661
SUMMARY:Fahrdienst: Ria Eugster\, 055 244 19 22
PRIORITY:5
X-MICROSOFT-CDO-IMPORTANCE:1
CLASS:PUBLIC
END:VEVENT
END:VCALENDAR
