BEGIN:VCALENDAR
PRODID:-//kirchenweb.ch gmbh//veranstaltungsausgabe v2.0//DE
VERSION:2.0
METHOD:PUBLISH
BEGIN:VEVENT
DTSTART:20261011T080000Z
DTEND:20261011T110000Z
LOCATION:Pakplatz Risi Stäfa\, \,
TRANSP:OPAQUE
SEQUENCE:0
UID:60656-veranstaltung@ref-staefa-hombrechtikon.ch
DTSTAMP:20260129T073823Z
DESCRIPTION:Alle Familien sind herzlich eingeladen zusammen auf einer
  kurzen Entdeckungstour den Herbst willkommen zu heissen.\nWir entzünden
  ein Feuer\, plaudern\, bräteln und singen Lieder.\n\nKontakt: Corina
  Hungerbühler\n\nWeitere Infos:
  https://www.ref-staefa-hombrechtikon.ch/veranstaltung/60656
SUMMARY:Familienfeuer
PRIORITY:5
X-MICROSOFT-CDO-IMPORTANCE:1
CLASS:PUBLIC
END:VEVENT
END:VCALENDAR
