BEGIN:VCALENDAR
PRODID:-//kirchenweb.ch gmbh//veranstaltungsausgabe v2.0//DE
VERSION:2.0
METHOD:PUBLISH
BEGIN:VEVENT
DTSTART:20260524T083000Z
DTEND:20260524T093000Z
LOCATION:Forum Kirchbühl Stäfa\, Kirchbühlstrasse 40\, 8712 Stäfa
TRANSP:OPAQUE
SEQUENCE:0
UID:60652-veranstaltung@ref-staefa-hombrechtikon.ch
DTSTAMP:20251204T083749Z
DESCRIPTION:Auf Wunsch holen wir Sie auch bei Ihnen zuhause ab. \nBitte
  bis am Vortag L. und W. Aeberli melden:\n044 926 15 23\n\nKontakt: Ursula
  Pernet\n\nWeitere Infos:
  https://www.ref-staefa-hombrechtikon.ch/veranstaltung/60652
SUMMARY:Fahrdienst: Lilli und Werner Aeberli\, 044 926 15 23
PRIORITY:5
X-MICROSOFT-CDO-IMPORTANCE:1
CLASS:PUBLIC
END:VEVENT
END:VCALENDAR
