BEGIN:VCALENDAR
PRODID:-//kirchenweb.ch gmbh//veranstaltungsausgabe v2.0//DE
VERSION:2.0
METHOD:PUBLISH
BEGIN:VEVENT
DTSTART:20260705T083000Z
DTEND:20260705T093000Z
LOCATION:Forum Kirchbühl\, Kirchbühlstrasse 40\, 8712 Stäfa
TRANSP:OPAQUE
SEQUENCE:0
UID:60646-veranstaltung@ref-staefa-hombrechtikon.ch
DTSTAMP:20260212T141901Z
DESCRIPTION:Auf Wunsch holen wir Sie zuhause ab.\nBitte bis am Vortag bei
  der Fahrerin melden:\n078 703 30 70\n\n\nKontakt: Ursula Pernet\n
 \nWeitere Infos:
  https://www.ref-staefa-hombrechtikon.ch/veranstaltung/60646
SUMMARY:Fahrdienst: Hedi Bacher\, 078 703 30 70
PRIORITY:5
X-MICROSOFT-CDO-IMPORTANCE:1
CLASS:PUBLIC
END:VEVENT
END:VCALENDAR
