BEGIN:VCALENDAR
PRODID:-//kirchenweb.ch gmbh//veranstaltungsausgabe v2.0//DE
VERSION:2.0
METHOD:PUBLISH
BEGIN:VEVENT
DTSTART:20260614T083000Z
DTEND:20260614T093000Z
LOCATION:Forum Kirchbühl Stäfa\, Kirchbühlstrasse 40\, 8712 Stäfa
TRANSP:OPAQUE
SEQUENCE:0
UID:60631-veranstaltung@ref-staefa-hombrechtikon.ch
DTSTAMP:20260212T141033Z
DESCRIPTION:Auf tel. Anmeldung holen wir Sie an Ihrem Wohnort ab. \nBitte
  melden Sie sich bis am Vortag beim Fahrer an:\n076 586 08 22\n\nKontakt:
  Ursula Pernet\n\nWeitere Infos:
  https://www.ref-staefa-hombrechtikon.ch/veranstaltung/60631
SUMMARY:Fahrdienst: Christoph Nievergelt\, 076 586 08 22
PRIORITY:5
X-MICROSOFT-CDO-IMPORTANCE:1
CLASS:PUBLIC
END:VEVENT
END:VCALENDAR
