BEGIN:VCALENDAR
PRODID:-//kirchenweb.ch gmbh//veranstaltungsausgabe v2.0//DE
VERSION:2.0
METHOD:PUBLISH
BEGIN:VEVENT
DTSTART:20260412T080000Z
DTEND:20260412T110000Z
LOCATION:Pakplatz Risi Stäfa\, \,
TRANSP:OPAQUE
SEQUENCE:0
UID:60626-veranstaltung@ref-staefa-hombrechtikon.ch
DTSTAMP:20260324T080007Z
DESCRIPTION:Alle Familien sind herzlich eingeladen zusammen auf einer
  kurzen Entdeckungstour den Frühling willkommen zu heissen.\nWir
  entzünden ein Feuer und eröffnen unsere Kräuterküche. Während die
  Kartoffeln mit den gesammelten Kräutern brutzeln\, bleibt Zeit zum
  Plaudern\, Spielen\, Bräteln und Lieder singen.\n\nMitnehmen: Etwas zum
  Bräteln\, genügend zu Trinken\, evtl. Sitzunterlage\n\nKontakt: Corina
  Hungerbühler\n\nWeitere Infos:
  https://www.ref-staefa-hombrechtikon.ch/veranstaltung/60626
SUMMARY:Familienfeuer
PRIORITY:5
X-MICROSOFT-CDO-IMPORTANCE:1
CLASS:PUBLIC
END:VEVENT
END:VCALENDAR
