BEGIN:VCALENDAR
PRODID:-//kirchenweb.ch gmbh//veranstaltungsausgabe v2.0//DE
VERSION:2.0
METHOD:PUBLISH
BEGIN:VEVENT
DTSTART:20260814T141500Z
DTEND:20260814T151500Z
LOCATION:Alters- und Pflegeheim Refugium\, Mürtschenweg 5\, 8634
  Hombrechtikon
TRANSP:OPAQUE
SEQUENCE:0
UID:60592-veranstaltung@ref-staefa-hombrechtikon.ch
DTSTAMP:20251128T111000Z
DESCRIPTION:Kontakt: David Jäger\n\nWeitere Infos:
  https://www.ref-staefa-hombrechtikon.ch/veranstaltung/60592
SUMMARY:Andacht im Alters- und Pflegeheim Refugium
PRIORITY:5
X-MICROSOFT-CDO-IMPORTANCE:1
CLASS:PUBLIC
END:VEVENT
END:VCALENDAR
