BEGIN:VCALENDAR
PRODID:-//kirchenweb.ch gmbh//veranstaltungsausgabe v2.0//DE
VERSION:2.0
METHOD:PUBLISH
BEGIN:VEVENT
DTSTART:20260410T141500Z
DTEND:20260410T151500Z
LOCATION:Alters- und Pflegeheim Refugium\, Mürtschenweg 5\, 8634
  Hombrechtikon
TRANSP:OPAQUE
SEQUENCE:0
UID:60590-veranstaltung@ref-staefa-hombrechtikon.ch
DTSTAMP:20260127T170616Z
DESCRIPTION:Kontakt: Marc Heise\n\nWeitere Infos:
  https://www.ref-staefa-hombrechtikon.ch/veranstaltung/60590
SUMMARY:Andacht im Alters- und Pflegeheim Refugium
PRIORITY:5
X-MICROSOFT-CDO-IMPORTANCE:1
CLASS:PUBLIC
END:VEVENT
END:VCALENDAR
