BEGIN:VCALENDAR
PRODID:-//kirchenweb.ch gmbh//veranstaltungsausgabe v2.0//DE
VERSION:2.0
METHOD:PUBLISH
BEGIN:VEVENT
DTSTART:20261023T081500Z
DTEND:20261023T091500Z
LOCATION:Alters- und Pflegeheim Breitlen\, Obstgartenstrasse 2\, 8634
  Hombrechtikon
TRANSP:OPAQUE
SEQUENCE:0
UID:60586-veranstaltung@ref-staefa-hombrechtikon.ch
DTSTAMP:20251128T110456Z
DESCRIPTION:Kontakt: Marc Heise\n\nWeitere Infos:
  https://www.ref-staefa-hombrechtikon.ch/veranstaltung/60586
SUMMARY:Andacht im Alters- und Pflegeheim Breitlen
PRIORITY:5
X-MICROSOFT-CDO-IMPORTANCE:1
CLASS:PUBLIC
END:VEVENT
END:VCALENDAR
