BEGIN:VCALENDAR
PRODID:-//kirchenweb.ch gmbh//veranstaltungsausgabe v2.0//DE
VERSION:2.0
METHOD:PUBLISH
BEGIN:VEVENT
DTSTART:20260918T081500Z
DTEND:20260918T091500Z
LOCATION:Alters- und Pflegeheim Breitlen\, Obstgartenstrasse 2\, 8634
  Hombrechtikon
TRANSP:OPAQUE
SEQUENCE:0
UID:60585-veranstaltung@ref-staefa-hombrechtikon.ch
DTSTAMP:20251128T110711Z
DESCRIPTION:Kontakt: David Jäger\n\nWeitere Infos:
  https://www.ref-staefa-hombrechtikon.ch/veranstaltung/60585
SUMMARY:Andacht im Alters- und Pflegeheim Breitlen
PRIORITY:5
X-MICROSOFT-CDO-IMPORTANCE:1
CLASS:PUBLIC
END:VEVENT
END:VCALENDAR
