BEGIN:VCALENDAR
PRODID:-//kirchenweb.ch gmbh//veranstaltungsausgabe v2.0//DE
VERSION:2.0
METHOD:PUBLISH
BEGIN:VEVENT
DTSTART:20260310T093000Z
DTEND:20260310T103000Z
LOCATION:Alters- und Pflegeheim Sonnengarten\, Etzelstrasse 6\, 8634
  Hombrechtikon
TRANSP:OPAQUE
SEQUENCE:0
UID:60567-veranstaltung@ref-staefa-hombrechtikon.ch
DTSTAMP:20251204T145915Z
DESCRIPTION:Kontakt: David Jäger\n\nWeitere Infos:
  https://www.ref-staefa-hombrechtikon.ch/veranstaltung/60567
SUMMARY:Andacht im Alters- und Pflegeheim Sonnengarten
PRIORITY:5
X-MICROSOFT-CDO-IMPORTANCE:1
CLASS:PUBLIC
END:VEVENT
END:VCALENDAR
