BEGIN:VCALENDAR
PRODID:-//kirchenweb.ch gmbh//veranstaltungsausgabe v2.0//DE
VERSION:2.0
METHOD:PUBLISH
BEGIN:VEVENT
DTSTART:20261105T090000Z
DTEND:20261105T100000Z
LOCATION:Alterszentrum Lanzeln\, Bahnhofstrasse 58\, 8712 Stäfa
TRANSP:OPAQUE
SEQUENCE:0
UID:60561-veranstaltung@ref-staefa-hombrechtikon.ch
DTSTAMP:20251230T130607Z
DESCRIPTION:Kontakt: Marc Heise\n\nWeitere Infos:
  https://www.ref-staefa-hombrechtikon.ch/veranstaltung/60561
SUMMARY:Seniorengottesdienst
PRIORITY:5
X-MICROSOFT-CDO-IMPORTANCE:1
CLASS:PUBLIC
END:VEVENT
END:VCALENDAR
