BEGIN:VCALENDAR
PRODID:-//kirchenweb.ch gmbh//veranstaltungsausgabe v2.0//DE
VERSION:2.0
METHOD:PUBLISH
BEGIN:VEVENT
DTSTART:20260806T080000Z
DTEND:20260806T090000Z
LOCATION:Alterszentrum Lanzeln\, Bahnhofstrasse 58\, 8712 Stäfa
TRANSP:OPAQUE
SEQUENCE:0
UID:60558-veranstaltung@ref-staefa-hombrechtikon.ch
DTSTAMP:20251128T105154Z
DESCRIPTION:Kontakt: Evelyne Lott\n\nWeitere Infos:
  https://www.ref-staefa-hombrechtikon.ch/veranstaltung/60558
SUMMARY:kein Seniorengottesdienst
PRIORITY:5
X-MICROSOFT-CDO-IMPORTANCE:1
CLASS:PUBLIC
END:VEVENT
END:VCALENDAR
