BEGIN:VCALENDAR
PRODID:-//kirchenweb.ch gmbh//veranstaltungsausgabe v2.0//DE
VERSION:2.0
METHOD:PUBLISH
BEGIN:VEVENT
DTSTART:20260930T083000Z
DTEND:20260930T093000Z
LOCATION:Aussenwohngruppe Geren\, Gerenstrasse 17\, 8712 Stäfa
TRANSP:OPAQUE
SEQUENCE:0
UID:60547-veranstaltung@ref-staefa-hombrechtikon.ch
DTSTAMP:20251230T131412Z
DESCRIPTION:Kontakt: Marc Heise\n\nWeitere Infos:
  https://www.ref-staefa-hombrechtikon.ch/veranstaltung/60547
SUMMARY:Seniorengottesdienst
PRIORITY:5
X-MICROSOFT-CDO-IMPORTANCE:1
CLASS:PUBLIC
END:VEVENT
END:VCALENDAR
