BEGIN:VCALENDAR
PRODID:-//kirchenweb.ch gmbh//veranstaltungsausgabe v2.0//DE
VERSION:2.0
METHOD:PUBLISH
BEGIN:VEVENT
DTSTART:20260805T083000Z
DTEND:20260805T093000Z
LOCATION:Aussenwohngruppe Geren\, Gerenstrasse 17\, 8712 Stäfa
TRANSP:OPAQUE
SEQUENCE:0
UID:60545-veranstaltung@ref-staefa-hombrechtikon.ch
DTSTAMP:20251128T104437Z
DESCRIPTION:Kontakt: gottesdienste.ref-staefa@ref-staefa-hombrechtikon.ch
 \n\nWeitere Infos:
  https://www.ref-staefa-hombrechtikon.ch/veranstaltung/60545
SUMMARY:kein Seniorengottesdienst
PRIORITY:5
X-MICROSOFT-CDO-IMPORTANCE:1
CLASS:PUBLIC
END:VEVENT
END:VCALENDAR
