BEGIN:VCALENDAR
PRODID:-//kirchenweb.ch gmbh//veranstaltungsausgabe v2.0//DE
VERSION:2.0
METHOD:PUBLISH
BEGIN:VEVENT
DTSTART:20261202T083000Z
DTEND:20261202T091500Z
LOCATION:Alterszentrum Wiesengrund\, Etzelstrasse 44\, 8712 Stäfa
TRANSP:OPAQUE
SEQUENCE:0
UID:60537-veranstaltung@ref-staefa-hombrechtikon.ch
DTSTAMP:20251230T125736Z
DESCRIPTION:Kontakt: David Jäger\n\nWeitere Infos:
  https://www.ref-staefa-hombrechtikon.ch/veranstaltung/60537
SUMMARY:Seniorengottesdienst
PRIORITY:5
X-MICROSOFT-CDO-IMPORTANCE:1
CLASS:PUBLIC
END:VEVENT
END:VCALENDAR
